BEGIN:VCALENDAR
VERSION:2.0
PRODID:-//Jägerverein Berching-Dietfurt e.V. - Mitglied im Bayerischen Jagdverband - ECPv6.15.20//NONSGML v1.0//EN
CALSCALE:GREGORIAN
METHOD:PUBLISH
X-ORIGINAL-URL:https://jaegerverein.info
X-WR-CALDESC:Veranstaltungen für Jägerverein Berching-Dietfurt e.V. - Mitglied im Bayerischen Jagdverband
REFRESH-INTERVAL;VALUE=DURATION:PT1H
X-Robots-Tag:noindex
X-PUBLISHED-TTL:PT1H
BEGIN:VTIMEZONE
TZID:Europe/Paris
BEGIN:DAYLIGHT
TZOFFSETFROM:+0100
TZOFFSETTO:+0200
TZNAME:CEST
DTSTART:20250330T010000
END:DAYLIGHT
BEGIN:STANDARD
TZOFFSETFROM:+0200
TZOFFSETTO:+0100
TZNAME:CET
DTSTART:20251026T010000
END:STANDARD
BEGIN:DAYLIGHT
TZOFFSETFROM:+0100
TZOFFSETTO:+0200
TZNAME:CEST
DTSTART:20260329T010000
END:DAYLIGHT
BEGIN:STANDARD
TZOFFSETFROM:+0200
TZOFFSETTO:+0100
TZNAME:CET
DTSTART:20261025T010000
END:STANDARD
BEGIN:DAYLIGHT
TZOFFSETFROM:+0100
TZOFFSETTO:+0200
TZNAME:CEST
DTSTART:20270328T010000
END:DAYLIGHT
BEGIN:STANDARD
TZOFFSETFROM:+0200
TZOFFSETTO:+0100
TZNAME:CET
DTSTART:20271031T010000
END:STANDARD
END:VTIMEZONE
BEGIN:VTIMEZONE
TZID:UTC
BEGIN:STANDARD
TZOFFSETFROM:+0000
TZOFFSETTO:+0000
TZNAME:UTC
DTSTART:20250101T000000
END:STANDARD
END:VTIMEZONE
BEGIN:VEVENT
DTSTART;TZID=Europe/Paris:20260418T190000
DTEND;TZID=Europe/Paris:20260418T220000
DTSTAMP:20260420T120128
CREATED:20260316T093658Z
LAST-MODIFIED:20260316T173446Z
UID:3080-1776538800-1776549600@jaegerverein.info
SUMMARY:Jahreshauptversammlung mit Pflichthegeschau
DESCRIPTION:Wir laden Sie zu unserer Jahreshauptversammlung mit Pflichthegeschau am Samstag\, den 18.04.2026 um 19.00 Uhr\, im Dorfhaus Staufersbuch recht herzlich ein. \nProgramm: \n\nEinleitung durch die Jagdhornbläsergruppe\nBegrüßung und Bericht des Vorsitzenden Hr. Julian Sippl\nTotengedenken\nBericht des Schatzmeisters Hr. Julian Kirchberger\nBericht der Kassenprüfer\nEntlastung von Vorstand und Schatzmeister\nAbstimmung zum Thema neue Vereinsbeiträge.\nWünsche und Anträge\n— Pause —\nTrophäenprämierung\nJagdsignale\n\nAlle Trophäen des erlegten Schalenwildes (Reh-\, Rot-\, Dam-\, Muffel-\, Schwarzwild) des Jagdjahres 2025/2026 sind bei den jeweiligen Hegeringversammlungen\, jedoch spätestens bis Mittwoch\, den 15. April bei den Hegegemeinschaftsleitern abzugeben.\nDie Trophäen der staatlichen Forstdienststellen sind bei den zuständigen Hegegemeinschaftsleitern abzugegeben. \nDie besten Gehörne werden mit Schildern in Gold\, Silber und Bronze prämiert.
URL:https://jaegerverein.info/event/jahreshauptversammlung-mit-pflichthegeschau/
LOCATION:Dorfhaus Staufersbuch\, Keltenweg 12\, Berching\, 92334\, Germany
CATEGORIES:Allgemein,hervorgehoben
END:VEVENT
BEGIN:VEVENT
DTSTART;TZID=Europe/Paris:20260418T090000
DTEND;TZID=Europe/Paris:20260418T120000
DTSTAMP:20260420T120128
CREATED:20260318T062749Z
LAST-MODIFIED:20260318T062749Z
UID:3397-1776502800-1776513600@jaegerverein.info
SUMMARY:Einschießen der Gewehre
DESCRIPTION:
URL:https://jaegerverein.info/event/einschiessen-der-gewehre/
CATEGORIES:Schießwesen
END:VEVENT
BEGIN:VEVENT
DTSTART;TZID=Europe/Paris:20260417T190000
DTEND;TZID=Europe/Paris:20260417T220000
DTSTAMP:20260420T120128
CREATED:20260401T063007Z
LAST-MODIFIED:20260401T063007Z
UID:3609-1776452400-1776463200@jaegerverein.info
SUMMARY:Trophäenbewertung
DESCRIPTION:
URL:https://jaegerverein.info/event/trophaeenbewertung/
LOCATION:Dorfhaus Staufersbuch\, Keltenweg 12\, Berching\, 92334\, Germany
CATEGORIES:Allgemein
END:VEVENT
BEGIN:VEVENT
DTSTART;TZID=Europe/Paris:20260411T093000
DTEND;TZID=Europe/Paris:20260411T160000
DTSTAMP:20260420T120128
CREATED:20260330T065010Z
LAST-MODIFIED:20260330T065058Z
UID:3582-1775899800-1775923200@jaegerverein.info
SUMMARY:Workshop Öffentlichkeitsarbeit / Schule fürs Leben
DESCRIPTION:Wir laden dich zu unserem 2. Workshop Öffentlichkeitsarbeit / Schule fürs Leben ein\, wenn du künftig selbst Waldtag für Kindergärten und Schulen anbieten möchtest. Du bekommst von uns alles\, was du brauchst um loszulegen.\nDer Workshop ist perfekt für dich\, wenn du nicht gleich eine mehrtägige Ausbildung zum Wald-oder Naturpädagogen machen möchtest.\nVerbringe einen informativen und spannende Samstag mit uns und du wirst sehen\, es ist kein Hexenwerk und macht super viel Spaß. \n Der Workshop ist auch für Erzieher/innen und Lehrkräfte geeignet.\n Für mehr Infos schreibe uns \n 11. April 2025\n 9:30 – 16:00 Uhr\n Staufersbuch bei Berching\n Anmeldung per Mail erforderlich bei susanne.brom@jaegerverein.info
URL:https://jaegerverein.info/event/workshop-oeffentlichkeitsarbeit-schule-fuers-leben/
CATEGORIES:Naturpädagogik
END:VEVENT
BEGIN:VEVENT
DTSTART;TZID=UTC:20260410T190000
DTEND;TZID=UTC:20260410T220000
DTSTAMP:20260420T120128
CREATED:20260316T055219Z
LAST-MODIFIED:20260330T074851Z
UID:3014-1775847600-1775858400@jaegerverein.info
SUMMARY:Hegeringversammlung Staufersbuch
DESCRIPTION:Tagesordnung\n\nBegrüßung durch den Hegeringleiter.\nAbgabe der Abschusslisten A und B (+Kopie für die Abschussprämie)\nTrophäen können abgegeben werden\nVerschiedenes\n\nDie Abschusslisten A und B müssen bis zu den Hegeringversammlungen bei den Hegeringleitern abgegeben werden. Bitte laden Sie auch Ihre Jagdvorstände zu den Hegeringversammlungen ein. \nInfo: Reviere\, die keine Gehörne abgeben\, sind bei der Unteren Jagdbehörde zu melden. \nAlternative Tagesordnungen werden durch die Hegeringleiter bekannt gegeben.
URL:https://jaegerverein.info/event/hegeringversammlung-staufersbuch-26/
LOCATION:Gasthaus Kienlein Holnstein\, Poststraße 14\, Berching\, 92334\, Germany
CATEGORIES:Hegering Staufersbuch
END:VEVENT
BEGIN:VEVENT
DTSTART;TZID=Europe/Paris:20260409T190000
DTEND;TZID=Europe/Paris:20260409T220000
DTSTAMP:20260420T120128
CREATED:20260316T090011Z
LAST-MODIFIED:20260316T092133Z
UID:3070-1775761200-1775772000@jaegerverein.info
SUMMARY:Hegeringversammlung Dietfurt
DESCRIPTION:Tagesordnung\n\nBegrüßung durch den Hegeringleiter.\nAbgabe der Abschusslisten A und B (+Kopie für die Abschussprämie)\nTrophäen können abgegeben werden\nVerschiedenes\n\nDie Abschusslisten A und B müssen bis zu den Hegeringversammlungen bei den Hegeringleitern abgegeben werden. Bitte laden Sie auch Ihre Jagdvorstände zu den Hegeringversammlungen ein. \nInfo: Reviere\, die keine Gehörne abgeben\, sind bei der Unteren Jagdbehörde zu melden. \nAlternative Tagesordnungen werden durch die Hegeringleiter bekannt gegeben.
URL:https://jaegerverein.info/event/hegeringversammlung-dietfurt-26/
LOCATION:Landgasthof Zum Wolfsberg\, Riedenburger Str 1\, Dietfurt\, 92345\, Germany
CATEGORIES:Hegering Dietfurt
END:VEVENT
BEGIN:VEVENT
DTSTART;TZID=Europe/Paris:20260402T190000
DTEND;TZID=Europe/Paris:20260402T220000
DTSTAMP:20260420T120128
CREATED:20260316T090552Z
LAST-MODIFIED:20260316T092419Z
UID:3072-1775156400-1775167200@jaegerverein.info
SUMMARY:Hegeringversammlung Berching
DESCRIPTION:Tagesordnung\n\nBegrüßung durch den Hegeringleiter.\nAbgabe der Abschusslisten A und B (+Kopie für die Abschussprämie)\nTrophäen können abgegeben werden\nVerschiedenes\n\nDie Abschusslisten A und B müssen bis zu den Hegeringversammlungen bei den Hegeringleitern abgegeben werden. Bitte laden Sie auch Ihre Jagdvorstände zu den Hegeringversammlungen ein. \nInfo: Reviere\, die keine Gehörne abgeben\, sind bei der Unteren Jagdbehörde zu melden. \nAlternative Tagesordnungen werden durch die Hegeringleiter bekannt gegeben.
URL:https://jaegerverein.info/event/hegeringversammlung-berching-26/
LOCATION:Gasthaus Winkler Berching\, Reichenauplatz 22\, Berching\, 92334\, Germany
CATEGORIES:Hegering Berching
END:VEVENT
BEGIN:VEVENT
DTSTART;TZID=Europe/Paris:20260321T090000
DTEND;TZID=Europe/Paris:20260321T120000
DTSTAMP:20260420T120128
CREATED:20260320T090415Z
LAST-MODIFIED:20260320T090518Z
UID:3492-1774083600-1774094400@jaegerverein.info
SUMMARY:Aktion saubere Landschaft und Arbeitsdienst
DESCRIPTION:Der Jägerverein Hubertus Beilngries beteiligt sich auch dieses Jahr wieder an der Aktion saubere Landschaft der Stadt Beilngries am kommenden Samstag\, 21.03.2026 von 09:00 bis 12:00 Uhr und verbindet dies wieder mit einem Arbeitsdienst auf der Schießanlage Arzberg.\nDer Jägerverein Berching-Dietfurt ist wieder herzlich eingeladen\, sich daran zu beteiligen.\n\nBeginn: 09.00 Uhr; es stehen folgende Arbeiten an:\n\nAufsammeln von Unrat entlang der Zuwege zur Schießanlage Arzberg und auf den Wanderwegen im Bereich des Arzberg Plateaus;\nReinigen der Dächer der Schießanlage Arzberg;\nReinigen der Basis und des Zielbereiches der Trap-Schießanlage und des 100 m Standes;\nReinigen des Innenraumes der Schießstandhütte;\nFreischneiden der Schießstandumzäunung;\nAufarbeiten von Bruchholz aus Sicherheitsgründen im Innenbereich der Schießanlage\, insbesondere im schießtechnischen Sicherheitsbereich und in unmittelbarer Nähe des Parkplatzes.\n\n\nWir bitten alle Helfer sich mit Arbeitshandschuhen und festem Schuhwerk auszurüsten.\nMüllsäcke\, Zangen zum Aufsammeln von Unrat\, Eimer für das Aufsammeln von Tontaubenschrott und Kehrbesen sind vorhanden.\nHolzbearbeitungswerkzeug (Sägen\, Astscheren\, Zangen\, ect.) ist willkommen.
URL:https://jaegerverein.info/event/aktion-saubere-landschaft-und-arbeitsdienst/
LOCATION:Schießanlage Arzberg\, Arzbergstraße\, Beilngries\, 92339
CATEGORIES:Schießwesen
END:VEVENT
END:VCALENDAR