BEGIN:VCALENDAR
VERSION:2.0
PRODID:-//Jägerverein Berching-Dietfurt e.V. - Mitglied im Bayerischen Jagdverband - ECPv6.15.20//NONSGML v1.0//EN
CALSCALE:GREGORIAN
METHOD:PUBLISH
X-WR-CALNAME:Jägerverein Berching-Dietfurt e.V. - Mitglied im Bayerischen Jagdverband
X-ORIGINAL-URL:https://jaegerverein.info
X-WR-CALDESC:Veranstaltungen für Jägerverein Berching-Dietfurt e.V. - Mitglied im Bayerischen Jagdverband
REFRESH-INTERVAL;VALUE=DURATION:PT1H
X-Robots-Tag:noindex
X-PUBLISHED-TTL:PT1H
BEGIN:VTIMEZONE
TZID:Europe/Paris
BEGIN:DAYLIGHT
TZOFFSETFROM:+0100
TZOFFSETTO:+0200
TZNAME:CEST
DTSTART:20250330T010000
END:DAYLIGHT
BEGIN:STANDARD
TZOFFSETFROM:+0200
TZOFFSETTO:+0100
TZNAME:CET
DTSTART:20251026T010000
END:STANDARD
BEGIN:DAYLIGHT
TZOFFSETFROM:+0100
TZOFFSETTO:+0200
TZNAME:CEST
DTSTART:20260329T010000
END:DAYLIGHT
BEGIN:STANDARD
TZOFFSETFROM:+0200
TZOFFSETTO:+0100
TZNAME:CET
DTSTART:20261025T010000
END:STANDARD
BEGIN:DAYLIGHT
TZOFFSETFROM:+0100
TZOFFSETTO:+0200
TZNAME:CEST
DTSTART:20270328T010000
END:DAYLIGHT
BEGIN:STANDARD
TZOFFSETFROM:+0200
TZOFFSETTO:+0100
TZNAME:CET
DTSTART:20271031T010000
END:STANDARD
END:VTIMEZONE
BEGIN:VEVENT
DTSTART;TZID=Europe/Paris:20260321T090000
DTEND;TZID=Europe/Paris:20260321T120000
DTSTAMP:20260420T120345
CREATED:20260320T090415Z
LAST-MODIFIED:20260320T090518Z
UID:3492-1774083600-1774094400@jaegerverein.info
SUMMARY:Aktion saubere Landschaft und Arbeitsdienst
DESCRIPTION:Der Jägerverein Hubertus Beilngries beteiligt sich auch dieses Jahr wieder an der Aktion saubere Landschaft der Stadt Beilngries am kommenden Samstag\, 21.03.2026 von 09:00 bis 12:00 Uhr und verbindet dies wieder mit einem Arbeitsdienst auf der Schießanlage Arzberg.\nDer Jägerverein Berching-Dietfurt ist wieder herzlich eingeladen\, sich daran zu beteiligen.\n\nBeginn: 09.00 Uhr; es stehen folgende Arbeiten an:\n\nAufsammeln von Unrat entlang der Zuwege zur Schießanlage Arzberg und auf den Wanderwegen im Bereich des Arzberg Plateaus;\nReinigen der Dächer der Schießanlage Arzberg;\nReinigen der Basis und des Zielbereiches der Trap-Schießanlage und des 100 m Standes;\nReinigen des Innenraumes der Schießstandhütte;\nFreischneiden der Schießstandumzäunung;\nAufarbeiten von Bruchholz aus Sicherheitsgründen im Innenbereich der Schießanlage\, insbesondere im schießtechnischen Sicherheitsbereich und in unmittelbarer Nähe des Parkplatzes.\n\n\nWir bitten alle Helfer sich mit Arbeitshandschuhen und festem Schuhwerk auszurüsten.\nMüllsäcke\, Zangen zum Aufsammeln von Unrat\, Eimer für das Aufsammeln von Tontaubenschrott und Kehrbesen sind vorhanden.\nHolzbearbeitungswerkzeug (Sägen\, Astscheren\, Zangen\, ect.) ist willkommen.
URL:https://jaegerverein.info/event/aktion-saubere-landschaft-und-arbeitsdienst/
LOCATION:Schießanlage Arzberg\, Arzbergstraße\, Beilngries\, 92339
CATEGORIES:Schießwesen
END:VEVENT
END:VCALENDAR